Package: WES.1KG.WUGSC Version: 1.40.0 Command: /home/biocbuild/bbs-3.21-bioc/R/bin/R CMD INSTALL WES.1KG.WUGSC StartedAt: 2025-10-16 10:56:02 -0400 (Thu, 16 Oct 2025) EndedAt: 2025-10-16 10:56:09 -0400 (Thu, 16 Oct 2025) EllapsedTime: 6.8 seconds RetCode: 0 Status: OK