Package: WES.1KG.WUGSC Version: 1.42.0 Maintainer: Yuchao Jiang MaintainerEmail: yuchaoj at wharton.upenn.edu git_url: https://git.bioconductor.org/packages/WES.1KG.WUGSC git_branch: RELEASE_3_22 git_last_commit: 80ba88e git_last_commit_date: 2025-10-29 09:56:02 -0400 (Wed, 29 Oct 2025)