Package: TumourMethData Version: 1.6.0 Command: /home/biocbuild/bbs-3.21-bioc/R/bin/R CMD INSTALL TumourMethData StartedAt: 2025-10-02 10:58:53 -0400 (Thu, 02 Oct 2025) EndedAt: 2025-10-02 10:59:20 -0400 (Thu, 02 Oct 2025) EllapsedTime: 26.3 seconds RetCode: 0 Status: OK