Package: TumourMethData Version: 1.6.0 Command: /home/biocbuild/bbs-3.21-bioc/R/bin/R CMD build --keep-empty-dirs --no-resave-data TumourMethData StartedAt: 2025-10-02 11:44:31 -0400 (Thu, 02 Oct 2025) EndedAt: 2025-10-02 11:45:15 -0400 (Thu, 02 Oct 2025) EllapsedTime: 43.7 seconds RetCode: 0 Status: OK PackageFile: TumourMethData_1.6.0.tar.gz PackageFileSize: 20.21 KiB