Package: TimerQuant Version: 1.36.0 Command: /home/biocbuild/bbs-3.20-bioc/R/bin/R CMD build --keep-empty-dirs --no-resave-data TimerQuant StartedAt: 2025-02-06 11:40:13 -0500 (Thu, 06 Feb 2025) EndedAt: 2025-02-06 11:41:06 -0500 (Thu, 06 Feb 2025) EllapsedTime: 53.0 seconds RetCode: 0 Status: OK PackageFile: TimerQuant_1.36.0.tar.gz PackageFileSize: 1.746 MiB