Package: TargetScoreData Version: 1.46.0 Command: /home/biocbuild/bbs-3.22-bioc/R/bin/R CMD INSTALL TargetScoreData StartedAt: 2025-11-20 10:55:30 -0500 (Thu, 20 Nov 2025) EndedAt: 2025-11-20 10:55:33 -0500 (Thu, 20 Nov 2025) EllapsedTime: 2.1 seconds RetCode: 0 Status: OK