Package: TargetScoreData Version: 1.46.0 Command: /home/biocbuild/bbs-3.22-bioc/R/bin/R CMD check --install=check:TargetScoreData.install-out.txt --library=/home/biocbuild/bbs-3.22-bioc/R/site-library --timings TargetScoreData_1.46.0.tar.gz StartedAt: 2025-11-20 13:23:47 -0500 (Thu, 20 Nov 2025) EndedAt: 2025-11-20 13:24:39 -0500 (Thu, 20 Nov 2025) EllapsedTime: 52.7 seconds RetCode: 0 Status: OK CheckDir: TargetScoreData.Rcheck Warnings: 0