Package: TargetScoreData Version: 1.46.0 Command: /home/biocbuild/bbs-3.22-bioc/R/bin/R CMD build --keep-empty-dirs --no-resave-data TargetScoreData StartedAt: 2025-11-20 11:48:41 -0500 (Thu, 20 Nov 2025) EndedAt: 2025-11-20 11:49:17 -0500 (Thu, 20 Nov 2025) EllapsedTime: 35.4 seconds RetCode: 0 Status: OK PackageFile: TargetScoreData_1.46.0.tar.gz PackageFileSize: 206.2 MiB