Package: TabulaMurisSenisData Version: 1.12.0 Command: /home/biocbuild/bbs-3.20-bioc/R/bin/R CMD INSTALL TabulaMurisSenisData StartedAt: 2025-02-06 11:00:56 -0500 (Thu, 06 Feb 2025) EndedAt: 2025-02-06 11:01:24 -0500 (Thu, 06 Feb 2025) EllapsedTime: 27.8 seconds RetCode: 0 Status: OK