Package: TabulaMurisData Version: 1.26.0 Command: /home/biocbuild/bbs-3.21-bioc/R/bin/R CMD INSTALL TabulaMurisData StartedAt: 2025-10-02 10:57:28 -0400 (Thu, 02 Oct 2025) EndedAt: 2025-10-02 10:57:41 -0400 (Thu, 02 Oct 2025) EllapsedTime: 13.0 seconds RetCode: 0 Status: OK