Package: TENxVisiumData Version: 1.14.0 Command: /home/biocbuild/bbs-3.20-bioc/R/bin/R CMD check --install=check:TENxVisiumData.install-out.txt --library=/home/biocbuild/bbs-3.20-bioc/R/site-library --timings TENxVisiumData_1.14.0.tar.gz StartedAt: 2025-02-06 12:44:55 -0500 (Thu, 06 Feb 2025) EndedAt: 2025-02-06 12:47:47 -0500 (Thu, 06 Feb 2025) EllapsedTime: 172.6 seconds RetCode: 0 Status: OK CheckDir: TENxVisiumData.Rcheck Warnings: 0