Package: TENxPBMCData Version: 1.26.0 Command: /home/biocbuild/bbs-3.21-bioc/R/bin/R CMD build --keep-empty-dirs --no-resave-data TENxPBMCData StartedAt: 2025-10-02 11:43:06 -0400 (Thu, 02 Oct 2025) EndedAt: 2025-10-02 11:43:59 -0400 (Thu, 02 Oct 2025) EllapsedTime: 52.6 seconds RetCode: 0 Status: OK PackageFile: TENxPBMCData_1.26.0.tar.gz PackageFileSize: 299.6 KiB