Package: TENxBrainData Version: 1.30.0 Command: /home/biocbuild/bbs-3.22-bioc/R/bin/R CMD check --install=check:TENxBrainData.install-out.txt --library=/home/biocbuild/bbs-3.22-bioc/R/site-library --timings TENxBrainData_1.30.0.tar.gz StartedAt: 2025-11-18 13:47:18 -0500 (Tue, 18 Nov 2025) EndedAt: 2025-11-18 13:52:49 -0500 (Tue, 18 Nov 2025) EllapsedTime: 330.4 seconds RetCode: 0 Status: OK CheckDir: TENxBrainData.Rcheck Warnings: 0