Package: TENxBrainData Version: 1.28.0 Command: /home/biocbuild/bbs-3.21-bioc/R/bin/R CMD INSTALL TENxBrainData StartedAt: 2025-10-02 10:59:55 -0400 (Thu, 02 Oct 2025) EndedAt: 2025-10-02 11:00:25 -0400 (Thu, 02 Oct 2025) EllapsedTime: 30.0 seconds RetCode: 0 Status: OK