Package: TENxBrainData Version: 1.28.0 Command: /home/biocbuild/bbs-3.21-bioc/R/bin/R CMD build --keep-empty-dirs --no-resave-data TENxBrainData StartedAt: 2025-10-02 11:42:58 -0400 (Thu, 02 Oct 2025) EndedAt: 2025-10-02 11:45:15 -0400 (Thu, 02 Oct 2025) EllapsedTime: 136.2 seconds RetCode: 0 Status: OK PackageFile: TENxBrainData_1.28.0.tar.gz PackageFileSize: 437.9 KiB