Package: TENxBUSData Version: 1.22.0 Command: /home/biocbuild/bbs-3.21-bioc/R/bin/R CMD INSTALL TENxBUSData StartedAt: 2025-10-07 10:57:02 -0400 (Tue, 07 Oct 2025) EndedAt: 2025-10-07 10:57:16 -0400 (Tue, 07 Oct 2025) EllapsedTime: 13.3 seconds RetCode: 0 Status: OK