Package: TENxBUSData Version: 1.22.0 Command: /home/biocbuild/bbs-3.21-bioc/R/bin/R CMD build --keep-empty-dirs --no-resave-data TENxBUSData StartedAt: 2025-10-07 11:42:21 -0400 (Tue, 07 Oct 2025) EndedAt: 2025-10-07 11:42:51 -0400 (Tue, 07 Oct 2025) EllapsedTime: 30.0 seconds RetCode: 0 Status: OK PackageFile: TENxBUSData_1.22.0.tar.gz PackageFileSize: 221.3 KiB