Package: TENET.ExperimentHub Version: 1.2.0 Command: /home/biocbuild/bbs-3.22-bioc/R/bin/R CMD INSTALL TENET.ExperimentHub StartedAt: 2025-11-18 10:59:57 -0500 (Tue, 18 Nov 2025) EndedAt: 2025-11-18 11:00:21 -0500 (Tue, 18 Nov 2025) EllapsedTime: 24.3 seconds RetCode: 0 Status: OK