Package: TCGAbiolinksGUI.data Version: 1.26.0 Command: /home/biocbuild/bbs-3.20-bioc/R/bin/R CMD INSTALL TCGAbiolinksGUI.data StartedAt: 2025-02-11 10:55:25 -0500 (Tue, 11 Feb 2025) EndedAt: 2025-02-11 10:55:32 -0500 (Tue, 11 Feb 2025) EllapsedTime: 7.3 seconds RetCode: 0 Status: OK