Package: TCGAbiolinksGUI.data Version: 1.28.0 Command: /home/biocbuild/bbs-3.21-bioc/R/bin/R CMD INSTALL TCGAbiolinksGUI.data StartedAt: 2025-10-02 10:55:21 -0400 (Thu, 02 Oct 2025) EndedAt: 2025-10-02 10:55:29 -0400 (Thu, 02 Oct 2025) EllapsedTime: 7.8 seconds RetCode: 0 Status: OK