Package: TCGAWorkflowData Version: 1.30.0 Command: /home/biocbuild/bbs-3.20-bioc/R/bin/R CMD INSTALL TCGAWorkflowData StartedAt: 2025-02-06 11:04:42 -0500 (Thu, 06 Feb 2025) EndedAt: 2025-02-06 11:05:41 -0500 (Thu, 06 Feb 2025) EllapsedTime: 59.4 seconds RetCode: 0 Status: OK