Package: TCGAWorkflowData Version: 1.30.0 Command: /home/biocbuild/bbs-3.20-bioc/R/bin/R CMD check --install=check:TCGAWorkflowData.install-out.txt --library=/home/biocbuild/bbs-3.20-bioc/R/site-library --timings TCGAWorkflowData_1.30.0.tar.gz StartedAt: 2025-02-06 12:44:15 -0500 (Thu, 06 Feb 2025) EndedAt: 2025-02-06 12:51:47 -0500 (Thu, 06 Feb 2025) EllapsedTime: 451.4 seconds RetCode: 0 Status: OK CheckDir: TCGAWorkflowData.Rcheck Warnings: 0