Package: TCGAWorkflowData Version: 1.32.0 Command: /home/biocbuild/bbs-3.21-bioc/R/bin/R CMD check --install=check:TCGAWorkflowData.install-out.txt --library=/home/biocbuild/bbs-3.21-bioc/R/site-library --timings TCGAWorkflowData_1.32.0.tar.gz StartedAt: 2025-10-09 13:06:27 -0400 (Thu, 09 Oct 2025) EndedAt: 2025-10-09 13:14:14 -0400 (Thu, 09 Oct 2025) EllapsedTime: 467.0 seconds RetCode: 0 Status: OK CheckDir: TCGAWorkflowData.Rcheck Warnings: 0