Package: TCGAMethylation450k Version: 1.42.0 Command: /home/biocbuild/bbs-3.20-bioc/R/bin/R CMD check --install=check:TCGAMethylation450k.install-out.txt --library=/home/biocbuild/bbs-3.20-bioc/R/site-library --timings TCGAMethylation450k_1.42.0.tar.gz StartedAt: 2025-02-11 12:47:19 -0500 (Tue, 11 Feb 2025) EndedAt: 2025-02-11 12:47:34 -0500 (Tue, 11 Feb 2025) EllapsedTime: 15.3 seconds RetCode: 0 Status: OK CheckDir: TCGAMethylation450k.Rcheck Warnings: 0