Package: TBX20BamSubset Version: 1.42.0 Command: /home/biocbuild/bbs-3.20-bioc/R/bin/R CMD build --keep-empty-dirs --no-resave-data TBX20BamSubset StartedAt: 2025-02-06 11:39:19 -0500 (Thu, 06 Feb 2025) EndedAt: 2025-02-06 11:39:44 -0500 (Thu, 06 Feb 2025) EllapsedTime: 24.6 seconds RetCode: 0 Status: OK PackageFile: TBX20BamSubset_1.42.0.tar.gz PackageFileSize: 94.74 MiB