Package: SubcellularSpatialData Version: 1.2.0 Command: /home/biocbuild/bbs-3.20-bioc/R/bin/R CMD build --keep-empty-dirs --no-resave-data SubcellularSpatialData StartedAt: 2025-01-30 11:39:44 -0500 (Thu, 30 Jan 2025) EndedAt: 2025-01-30 11:40:51 -0500 (Thu, 30 Jan 2025) EllapsedTime: 67.7 seconds RetCode: 0 Status: OK PackageFile: SubcellularSpatialData_1.2.0.tar.gz PackageFileSize: 2.311 MiB