Package: SubcellularSpatialData Version: 1.4.0 Command: /home/biocbuild/bbs-3.21-bioc/R/bin/R CMD check --install=check:SubcellularSpatialData.install-out.txt --library=/home/biocbuild/bbs-3.21-bioc/R/site-library --timings SubcellularSpatialData_1.4.0.tar.gz StartedAt: 2025-10-02 12:59:32 -0400 (Thu, 02 Oct 2025) EndedAt: 2025-10-02 13:01:15 -0400 (Thu, 02 Oct 2025) EllapsedTime: 102.6 seconds RetCode: 0 Status: OK CheckDir: SubcellularSpatialData.Rcheck Warnings: 0