Package: SpikeIn Version: 1.48.0 Command: /home/biocbuild/bbs-3.20-bioc/R/bin/R CMD INSTALL SpikeIn StartedAt: 2025-02-11 10:56:11 -0500 (Tue, 11 Feb 2025) EndedAt: 2025-02-11 10:56:20 -0500 (Tue, 11 Feb 2025) EllapsedTime: 8.4 seconds RetCode: 0 Status: OK