Package: SpikeIn Version: 1.48.0 Command: /home/biocbuild/bbs-3.20-bioc/R/bin/R CMD check --install=check:SpikeIn.install-out.txt --library=/home/biocbuild/bbs-3.20-bioc/R/site-library --timings SpikeIn_1.48.0.tar.gz StartedAt: 2025-02-06 12:40:10 -0500 (Thu, 06 Feb 2025) EndedAt: 2025-02-06 12:40:46 -0500 (Thu, 06 Feb 2025) EllapsedTime: 35.6 seconds RetCode: 0 Status: OK CheckDir: SpikeIn.Rcheck Warnings: 0