Package: SpatialDatasets Version: 1.8.0 Command: /home/biocbuild/bbs-3.22-bioc/R/bin/R CMD INSTALL SpatialDatasets StartedAt: 2025-11-18 10:59:11 -0500 (Tue, 18 Nov 2025) EndedAt: 2025-11-18 10:59:40 -0500 (Tue, 18 Nov 2025) EllapsedTime: 29.5 seconds RetCode: 0 Status: OK