Package: SpatialDatasets Version: 1.8.0 Command: /home/biocbuild/bbs-3.22-bioc/R/bin/R CMD build --keep-empty-dirs --no-resave-data SpatialDatasets StartedAt: 2025-11-18 12:10:33 -0500 (Tue, 18 Nov 2025) EndedAt: 2025-11-18 12:30:29 -0500 (Tue, 18 Nov 2025) EllapsedTime: 1196.8 seconds RetCode: 0 Status: OK PackageFile: SpatialDatasets_1.8.0.tar.gz PackageFileSize: 227.8 KiB