Package: SomaticCancerAlterations Version: 1.42.0 Command: /home/biocbuild/bbs-3.20-bioc/R/bin/R CMD check --install=check:SomaticCancerAlterations.install-out.txt --library=/home/biocbuild/bbs-3.20-bioc/R/site-library --timings SomaticCancerAlterations_1.42.0.tar.gz StartedAt: 2025-02-06 12:39:24 -0500 (Thu, 06 Feb 2025) EndedAt: 2025-02-06 12:40:46 -0500 (Thu, 06 Feb 2025) EllapsedTime: 82.2 seconds RetCode: 0 Status: OK CheckDir: SomaticCancerAlterations.Rcheck Warnings: 0