Package: SomatiCAData Version: 1.44.0 Command: /home/biocbuild/bbs-3.20-bioc/R/bin/R CMD build --keep-empty-dirs --no-resave-data SomatiCAData StartedAt: 2025-02-06 11:37:40 -0500 (Thu, 06 Feb 2025) EndedAt: 2025-02-06 11:37:43 -0500 (Thu, 06 Feb 2025) EllapsedTime: 3.4 seconds RetCode: 0 Status: OK PackageFile: SomatiCAData_1.44.0.tar.gz PackageFileSize: 32.14 MiB