Package: SingleMoleculeFootprintingData Version: 1.14.0 Command: /home/biocbuild/bbs-3.20-bioc/R/bin/R CMD INSTALL SingleMoleculeFootprintingData StartedAt: 2025-02-13 10:57:21 -0500 (Thu, 13 Feb 2025) EndedAt: 2025-02-13 10:57:31 -0500 (Thu, 13 Feb 2025) EllapsedTime: 10.0 seconds RetCode: 0 Status: OK