Package: SingleMoleculeFootprintingData Version: 1.14.0 Command: /home/biocbuild/bbs-3.20-bioc/R/bin/R CMD build --keep-empty-dirs --no-resave-data SingleMoleculeFootprintingData StartedAt: 2025-02-13 11:37:48 -0500 (Thu, 13 Feb 2025) EndedAt: 2025-02-13 11:38:08 -0500 (Thu, 13 Feb 2025) EllapsedTime: 20.0 seconds RetCode: 0 Status: OK PackageFile: SingleMoleculeFootprintingData_1.14.0.tar.gz PackageFileSize: 20.09 KiB