Package: SingleMoleculeFootprintingData Version: 1.16.0 Command: /home/biocbuild/bbs-3.21-bioc/R/bin/R CMD INSTALL SingleMoleculeFootprintingData StartedAt: 2025-10-07 10:57:22 -0400 (Tue, 07 Oct 2025) EndedAt: 2025-10-07 10:57:31 -0400 (Tue, 07 Oct 2025) EllapsedTime: 9.2 seconds RetCode: 0 Status: OK