Package: SingleMoleculeFootprintingData Version: 1.16.0 Command: /home/biocbuild/bbs-3.21-bioc/R/bin/R CMD build --keep-empty-dirs --no-resave-data SingleMoleculeFootprintingData StartedAt: 2025-10-07 11:39:50 -0400 (Tue, 07 Oct 2025) EndedAt: 2025-10-07 11:40:09 -0400 (Tue, 07 Oct 2025) EllapsedTime: 18.6 seconds RetCode: 0 Status: OK PackageFile: SingleMoleculeFootprintingData_1.16.0.tar.gz PackageFileSize: 20.09 KiB