Package: SingleCellMultiModal Version: 1.20.0 Command: /home/biocbuild/bbs-3.21-bioc/R/bin/R CMD check --install=check:SingleCellMultiModal.install-out.txt --library=/home/biocbuild/bbs-3.21-bioc/R/site-library --timings SingleCellMultiModal_1.20.0.tar.gz StartedAt: 2025-10-16 12:57:14 -0400 (Thu, 16 Oct 2025) EndedAt: 2025-10-16 13:08:14 -0400 (Thu, 16 Oct 2025) EllapsedTime: 659.5 seconds RetCode: 0 Status: OK CheckDir: SingleCellMultiModal.Rcheck Warnings: 0