Package: Single.mTEC.Transcriptomes Version: 1.36.0 Command: /home/biocbuild/bbs-3.21-bioc/R/bin/R CMD check --install=check:Single.mTEC.Transcriptomes.install-out.txt --library=/home/biocbuild/bbs-3.21-bioc/R/site-library --timings Single.mTEC.Transcriptomes_1.36.0.tar.gz StartedAt: 2025-10-16 12:56:59 -0400 (Thu, 16 Oct 2025) EndedAt: 2025-10-16 13:05:20 -0400 (Thu, 16 Oct 2025) EllapsedTime: 500.7 seconds RetCode: 0 Status: OK CheckDir: Single.mTEC.Transcriptomes.Rcheck Warnings: 0