Package: SimBenchData Version: 1.18.0 Command: /home/biocbuild/bbs-3.22-bioc/R/bin/R CMD INSTALL SimBenchData StartedAt: 2025-11-04 10:57:31 -0500 (Tue, 04 Nov 2025) EndedAt: 2025-11-04 10:57:45 -0500 (Tue, 04 Nov 2025) EllapsedTime: 13.8 seconds RetCode: 0 Status: OK