Package: SimBenchData Version: 1.16.0 Command: /home/biocbuild/bbs-3.21-bioc/R/bin/R CMD check --install=check:SimBenchData.install-out.txt --library=/home/biocbuild/bbs-3.21-bioc/R/site-library --timings SimBenchData_1.16.0.tar.gz StartedAt: 2025-10-14 12:57:00 -0400 (Tue, 14 Oct 2025) EndedAt: 2025-10-14 12:58:05 -0400 (Tue, 14 Oct 2025) EllapsedTime: 65.3 seconds RetCode: 0 Status: OK CheckDir: SimBenchData.Rcheck Warnings: 0