Package: STexampleData Version: 1.14.0 Command: /home/biocbuild/bbs-3.20-bioc/R/bin/R CMD check --install=check:STexampleData.install-out.txt --library=/home/biocbuild/bbs-3.20-bioc/R/site-library --timings STexampleData_1.14.0.tar.gz StartedAt: 2025-02-06 12:40:46 -0500 (Thu, 06 Feb 2025) EndedAt: 2025-02-06 12:44:54 -0500 (Thu, 06 Feb 2025) EllapsedTime: 248.0 seconds RetCode: 0 Status: OK CheckDir: STexampleData.Rcheck Warnings: 0