Package: SNPhoodData Version: 1.38.0 Command: /home/biocbuild/bbs-3.21-bioc/R/bin/R CMD INSTALL SNPhoodData StartedAt: 2025-10-16 10:55:38 -0400 (Thu, 16 Oct 2025) EndedAt: 2025-10-16 10:55:40 -0400 (Thu, 16 Oct 2025) EllapsedTime: 2.3 seconds RetCode: 0 Status: OK