Package: SNPhoodData Version: 1.38.0 Command: /home/biocbuild/bbs-3.21-bioc/R/bin/R CMD build --keep-empty-dirs --no-resave-data SNPhoodData StartedAt: 2025-10-16 11:40:11 -0400 (Thu, 16 Oct 2025) EndedAt: 2025-10-16 11:40:28 -0400 (Thu, 16 Oct 2025) EllapsedTime: 17.6 seconds RetCode: 0 Status: OK PackageFile: SNPhoodData_1.38.0.tar.gz PackageFileSize: 233.5 MiB