Package: SNAGEEdata Version: 1.44.0 Command: /home/biocbuild/bbs-3.21-bioc/R/bin/R CMD INSTALL SNAGEEdata StartedAt: 2025-10-16 10:57:51 -0400 (Thu, 16 Oct 2025) EndedAt: 2025-10-16 10:57:53 -0400 (Thu, 16 Oct 2025) EllapsedTime: 2.1 seconds RetCode: 0 Status: OK