Package: SNAGEEdata Version: 1.44.0 Command: /home/biocbuild/bbs-3.21-bioc/R/bin/R CMD build --keep-empty-dirs --no-resave-data SNAGEEdata StartedAt: 2025-10-16 11:40:11 -0400 (Thu, 16 Oct 2025) EndedAt: 2025-10-16 11:40:13 -0400 (Thu, 16 Oct 2025) EllapsedTime: 2.3 seconds RetCode: 0 Status: OK PackageFile: SNAGEEdata_1.44.0.tar.gz PackageFileSize: 29.22 MiB