Package: RnBeads.rn5 Version: 1.40.0 Command: /home/biocbuild/bbs-3.21-bioc/R/bin/R CMD build --keep-empty-dirs --no-resave-data RnBeads.rn5 StartedAt: 2025-10-14 11:36:14 -0400 (Tue, 14 Oct 2025) EndedAt: 2025-10-14 11:36:21 -0400 (Tue, 14 Oct 2025) EllapsedTime: 6.8 seconds RetCode: 0 Status: OK PackageFile: RnBeads.rn5_1.40.0.tar.gz PackageFileSize: 106.8 MiB