Package: RnBeads.mm10 Version: 2.14.0 Command: /home/biocbuild/bbs-3.20-bioc/R/bin/R CMD INSTALL RnBeads.mm10 StartedAt: 2025-02-11 11:03:54 -0500 (Tue, 11 Feb 2025) EndedAt: 2025-02-11 11:04:03 -0500 (Tue, 11 Feb 2025) EllapsedTime: 8.4 seconds RetCode: 0 Status: OK