Package: RnBeads.hg19 Version: 1.38.0 Command: /home/biocbuild/bbs-3.20-bioc/R/bin/R CMD INSTALL RnBeads.hg19 StartedAt: 2025-02-06 10:58:47 -0500 (Thu, 06 Feb 2025) EndedAt: 2025-02-06 10:58:56 -0500 (Thu, 06 Feb 2025) EllapsedTime: 8.9 seconds RetCode: 0 Status: OK