Package: RnBeads.hg19 Version: 1.40.0 Command: /home/biocbuild/bbs-3.21-bioc/R/bin/R CMD INSTALL RnBeads.hg19 StartedAt: 2025-10-02 10:58:46 -0400 (Thu, 02 Oct 2025) EndedAt: 2025-10-02 10:58:54 -0400 (Thu, 02 Oct 2025) EllapsedTime: 7.9 seconds RetCode: 0 Status: OK